BEGIN:VCALENDAR
VERSION:2.0
PRODID:-//Van Wert Works - ECPv6.15.14//NONSGML v1.0//EN
CALSCALE:GREGORIAN
METHOD:PUBLISH
X-WR-CALNAME:Van Wert Works
X-ORIGINAL-URL:https://vanwertworks.com
X-WR-CALDESC:Events for Van Wert Works
REFRESH-INTERVAL;VALUE=DURATION:PT1H
X-Robots-Tag:noindex
X-PUBLISHED-TTL:PT1H
BEGIN:VTIMEZONE
TZID:UTC
BEGIN:STANDARD
TZOFFSETFROM:+0000
TZOFFSETTO:+0000
TZNAME:UTC
DTSTART:20240101T000000
END:STANDARD
END:VTIMEZONE
BEGIN:VEVENT
DTSTART;TZID=UTC:20250311T173000
DTEND;TZID=UTC:20250415T193000
DTSTAMP:20260420T093907
CREATED:20250211T202712Z
LAST-MODIFIED:20250211T202712Z
UID:6723-1741714200-1744745400@vanwertworks.com
SUMMARY:6-week Business Planning + Coaching Series
DESCRIPTION:LAUNCH your dreams into reality by attending free business planning classes led by the Small Business Development Center of Rhodes State College. This 6-week in-depth series focuses on hands-on activity to help you apply strategic principles directly to your business. \n\nUnderstanding Business Strategy\nBusiness Planning Process\nStrategic Execution + Performance Measurement\n\nTuesdays – March 11 thru April 15\, 2025 from 5:30PM – 7:30PM \nSimulcast Location: Van Wert Area Economic Development – 140 E. Main St.\, Van Wert\, OH 45891 \nAttend ALL 6 sessions and one on one counseling to receive a small business training certificate and a complete business plan. \nSeries is FREE of charge! \nAutomatic entry for the Regional Pitchfest 2025
URL:https://vanwertworks.com/event/6-week-business-planning-coaching-series/
LOCATION:Van Wert Area Economic Development\, 140 E. Main St.\, Van Wert\, OH\, 45891\, United States
ATTACH;FMTTYPE=image/png:https://vanwertworks.com/wp-content/uploads/2025/02/VW-Small-Business-Series-2025-002_Page_1.png
ORGANIZER;CN="Van Wert Area Economic Development":MAILTO:info@vanwerted.com
END:VEVENT
END:VCALENDAR