BEGIN:VCALENDAR
VERSION:2.0
PRODID:-//Van Wert Works - ECPv6.15.14//NONSGML v1.0//EN
CALSCALE:GREGORIAN
METHOD:PUBLISH
X-WR-CALNAME:Van Wert Works
X-ORIGINAL-URL:https://vanwertworks.com
X-WR-CALDESC:Events for Van Wert Works
REFRESH-INTERVAL;VALUE=DURATION:PT1H
X-Robots-Tag:noindex
X-PUBLISHED-TTL:PT1H
BEGIN:VTIMEZONE
TZID:UTC
BEGIN:STANDARD
TZOFFSETFROM:+0000
TZOFFSETTO:+0000
TZNAME:UTC
DTSTART:20240101T000000
END:STANDARD
END:VTIMEZONE
BEGIN:VEVENT
DTSTART;TZID=UTC:20250222T090000
DTEND;TZID=UTC:20250222T120000
DTSTAMP:20260420T094859
CREATED:20250211T195508Z
LAST-MODIFIED:20250211T195508Z
UID:6718-1740214800-1740225600@vanwertworks.com
SUMMARY:Business Bootcamp: Entrepreneur Workshop
DESCRIPTION:Empowering Small Businesses: Business Bootcamp 2025 Unveils Dynamic Three-Part Series  \nThe much-anticipated Business Bootcamp 2025 promises an immersive journey for aspiring and established entrepreneurs\, offering a three-part series focused on igniting business growth\, knowledge sharing\, and fostering community development.  \nPart 1: Entrepreneur Workshop  \nKicking off the series on Saturday\, February 22\, 2025\, the Entrepreneur Workshop will take place from 9 AM to 12 PM at TRULAND Equipment\, located at 10305 Liberty-Union Rd\, Van Wert\, OH 45891. This workshop is designed to empower attendees with insights\, resources\, and best practices crucial for business success.  \nFeaturing a diverse panel of local business professionals and community development organizations\, attendees will gain knowledge spanning various business facets. \nThe panel will cover topics ranging from legal considerations\, financial strategies\, marketing insights\, and community resources.
URL:https://vanwertworks.com/event/business-bootcamp-entrepreneur-workshop/
LOCATION:TRULAND Equipment\, 10305 Liberty Union Rd.\, Van Wert\, OH\, 45891\, United States
ATTACH;FMTTYPE=image/png:https://vanwertworks.com/wp-content/uploads/2025/02/Entrepreneur-Workshop-3.png
ORGANIZER;CN="Van Wert Area Economic Development":MAILTO:info@vanwerted.com
END:VEVENT
END:VCALENDAR