BEGIN:VCALENDAR
VERSION:2.0
PRODID:-//Van Wert Works - ECPv6.15.14//NONSGML v1.0//EN
CALSCALE:GREGORIAN
METHOD:PUBLISH
X-WR-CALNAME:Van Wert Works
X-ORIGINAL-URL:https://vanwertworks.com
X-WR-CALDESC:Events for Van Wert Works
REFRESH-INTERVAL;VALUE=DURATION:PT1H
X-Robots-Tag:noindex
X-PUBLISHED-TTL:PT1H
BEGIN:VTIMEZONE
TZID:UTC
BEGIN:STANDARD
TZOFFSETFROM:+0000
TZOFFSETTO:+0000
TZNAME:UTC
DTSTART:20240101T000000
END:STANDARD
END:VTIMEZONE
BEGIN:VEVENT
DTSTART;TZID=UTC:20250603T080000
DTEND;TZID=UTC:20250606T160000
DTSTAMP:20260421T003745
CREATED:20250118T214426Z
LAST-MODIFIED:20250211T192704Z
UID:1592-1748937600-1749225600@vanwertworks.com
SUMMARY:Education on Location
DESCRIPTION:Education on Local is an annual weeklong program facilitated by VWAEDC with the Business Advisory Council for local educators to acquire continuing education. This Ashland University-sanctioned course offers continuing education units required by the Ohio Department of Education + optional credit hours toward a degree. \nThe week’s goal was to enlighten teachers with local career opportunities for their students. By touring numerous Van Wert County businesses\, the attendees gain insight into the products + services of local companies. More importantly\, they earn an understanding of the vast number of local jobs for engineers\, medical professionals\, skilled trades\, logistics\, and lab scientists. The desired outcome is that teachers use this information to enlighten + prepare students as they journey toward a successful career. \nEducators learn about the “soft skills” employers desire. Dependability\, Customer Service\, Communication\, and Critical Thinking are among the top traits employers say they need for the success and longevity of their employees. \nRequired from the attendees was a write-up of takeaways + how educators will apply the information in the classroom. \n\n“Education on Location has helped me reflect on my teaching practices and provided me with an increased awareness of how I can connect my students with the local business community and help better prepare them for productive careers.” \n– A recent participant
URL:https://vanwertworks.com/event/education-on-location/
LOCATION:Vantage Career Center\, 818 N Franklin Street\, Van Wert\, OH\, 45891\, United States
ATTACH;FMTTYPE=image/png:https://vanwertworks.com/wp-content/uploads/2023/10/EOL-1.png
ORGANIZER;CN="Van Wert Area Economic Development / Van Wert County Business Advisory Council":MAILTO:amiller@vanwerted.com
END:VEVENT
BEGIN:VEVENT
DTSTART;TZID=UTC:20250326T080000
DTEND;TZID=UTC:20250326T170000
DTSTAMP:20260421T003745
CREATED:20250211T194056Z
LAST-MODIFIED:20250211T194056Z
UID:6714-1742976000-1743008400@vanwertworks.com
SUMMARY:JobQuest Expo
DESCRIPTION:Get ready for a career extravaganza! The 2nd Annual JobQuest Expo is the ultimate fusion of two power-packed events – the Van Wert County Student Career Fair and the Ohio Means Jobs Fair. We’ve brought them together to create a one-day showcase unveiling the incredible range of career opportunities right here in our local area! \n  \n🗓️ Mark your calendars for Wednesday\, March 26\, 2025 \, as the Van Wert County Fairgrounds’ Jr. Fair Building transforms into the hub of career exploration + job prospects. \nHere’s a sneak peek at our lineup: \n\n8 am – 9 am: Business Booth Set Up\n9 am – 11 am: Student Career Exploration\n11am – 12 pm: Lunch provided for participating businesses\n12 pm – 4 pm: Public Job Fair\n4 pm – 5 pm: Business Booth Tear Down\n\nSupported by Van Wert Works\, Business Development Corporation of Van Wert\, Van Wert Area Economic Development\, and Ohio Means Jobs Van Wert County\, this event is a golden opportunity to showcase your business\, connect with local youth\, and scout potential talent for your workforce. \nDon’t miss out! Let’s ignite enthusiasm for careers and build a thriving local workforce together!
URL:https://vanwertworks.com/event/jobquest-expo/
LOCATION:OH
ATTACH;FMTTYPE=image/png:https://vanwertworks.com/wp-content/uploads/2025/02/JobQuest-Expo-SM-post-2.png
ORGANIZER;CN="Van Wert Works / Ohio Means Jobs Van Wert County":MAILTO:workforce@vanwerted.com
END:VEVENT
BEGIN:VEVENT
DTSTART;TZID=UTC:20250319T180000
DTEND;TZID=UTC:20250402T190000
DTSTAMP:20260421T003745
CREATED:20250211T203748Z
LAST-MODIFIED:20250211T203748Z
UID:6727-1742407200-1743620400@vanwertworks.com
SUMMARY:3-week Business Planning + Coaching Series
DESCRIPTION:LAUNCH your dreams into reality by attending FREE business planning + coaching classes led by Northwest State Community College. This 3-week series is convenient for our busy entrepreneurs and offers basic business knowledge. \nIn-person training hosted at the Van Wert Area Economic Development office located at 140 E. Main St.\, Van Wert\, OH 45891.  \n\n\nWednesday\, March 19 – Session 1: General State + Federal Business Requirements \n\n\nWednesday\, March 26 – Session 2: The Business Plan \n\n\nWednesday\, April 2 – Session 3: Marketing Your Business & Financing Opportunities \n\n\nTo register for the 3 week course\, click the link –https://forms.gle/dNcFmogcHTKsLoXm6
URL:https://vanwertworks.com/event/3-week-business-planning-coaching-series/
LOCATION:Van Wert Area Economic Development\, 140 E. Main St.\, Van Wert\, OH\, 45891\, United States
ATTACH;FMTTYPE=image/png:https://vanwertworks.com/wp-content/uploads/2025/02/2025-Bootcamp-SM-.png
ORGANIZER;CN="Van Wert Area Economic Development":MAILTO:info@vanwerted.com
END:VEVENT
BEGIN:VEVENT
DTSTART;TZID=UTC:20250311T173000
DTEND;TZID=UTC:20250415T193000
DTSTAMP:20260421T003745
CREATED:20250211T202712Z
LAST-MODIFIED:20250211T202712Z
UID:6723-1741714200-1744745400@vanwertworks.com
SUMMARY:6-week Business Planning + Coaching Series
DESCRIPTION:LAUNCH your dreams into reality by attending free business planning classes led by the Small Business Development Center of Rhodes State College. This 6-week in-depth series focuses on hands-on activity to help you apply strategic principles directly to your business. \n\nUnderstanding Business Strategy\nBusiness Planning Process\nStrategic Execution + Performance Measurement\n\nTuesdays – March 11 thru April 15\, 2025 from 5:30PM – 7:30PM \nSimulcast Location: Van Wert Area Economic Development – 140 E. Main St.\, Van Wert\, OH 45891 \nAttend ALL 6 sessions and one on one counseling to receive a small business training certificate and a complete business plan. \nSeries is FREE of charge! \nAutomatic entry for the Regional Pitchfest 2025
URL:https://vanwertworks.com/event/6-week-business-planning-coaching-series/
LOCATION:Van Wert Area Economic Development\, 140 E. Main St.\, Van Wert\, OH\, 45891\, United States
ATTACH;FMTTYPE=image/png:https://vanwertworks.com/wp-content/uploads/2025/02/VW-Small-Business-Series-2025-002_Page_1.png
ORGANIZER;CN="Van Wert Area Economic Development":MAILTO:info@vanwerted.com
END:VEVENT
BEGIN:VEVENT
DTSTART;TZID=UTC:20250222T090000
DTEND;TZID=UTC:20250222T120000
DTSTAMP:20260421T003745
CREATED:20250211T195508Z
LAST-MODIFIED:20250211T195508Z
UID:6718-1740214800-1740225600@vanwertworks.com
SUMMARY:Business Bootcamp: Entrepreneur Workshop
DESCRIPTION:Empowering Small Businesses: Business Bootcamp 2025 Unveils Dynamic Three-Part Series  \nThe much-anticipated Business Bootcamp 2025 promises an immersive journey for aspiring and established entrepreneurs\, offering a three-part series focused on igniting business growth\, knowledge sharing\, and fostering community development.  \nPart 1: Entrepreneur Workshop  \nKicking off the series on Saturday\, February 22\, 2025\, the Entrepreneur Workshop will take place from 9 AM to 12 PM at TRULAND Equipment\, located at 10305 Liberty-Union Rd\, Van Wert\, OH 45891. This workshop is designed to empower attendees with insights\, resources\, and best practices crucial for business success.  \nFeaturing a diverse panel of local business professionals and community development organizations\, attendees will gain knowledge spanning various business facets. \nThe panel will cover topics ranging from legal considerations\, financial strategies\, marketing insights\, and community resources.
URL:https://vanwertworks.com/event/business-bootcamp-entrepreneur-workshop/
LOCATION:TRULAND Equipment\, 10305 Liberty Union Rd.\, Van Wert\, OH\, 45891\, United States
ATTACH;FMTTYPE=image/png:https://vanwertworks.com/wp-content/uploads/2025/02/Entrepreneur-Workshop-3.png
ORGANIZER;CN="Van Wert Area Economic Development":MAILTO:info@vanwerted.com
END:VEVENT
END:VCALENDAR