BEGIN:VCALENDAR
VERSION:2.0
PRODID:-//Van Wert Works - ECPv6.15.14//NONSGML v1.0//EN
CALSCALE:GREGORIAN
METHOD:PUBLISH
X-ORIGINAL-URL:https://vanwertworks.com
X-WR-CALDESC:Events for Van Wert Works
REFRESH-INTERVAL;VALUE=DURATION:PT1H
X-Robots-Tag:noindex
X-PUBLISHED-TTL:PT1H
BEGIN:VTIMEZONE
TZID:America/New_York
BEGIN:DAYLIGHT
TZOFFSETFROM:-0500
TZOFFSETTO:-0400
TZNAME:EDT
DTSTART:20250309T070000
END:DAYLIGHT
BEGIN:STANDARD
TZOFFSETFROM:-0400
TZOFFSETTO:-0500
TZNAME:EST
DTSTART:20251102T060000
END:STANDARD
BEGIN:DAYLIGHT
TZOFFSETFROM:-0500
TZOFFSETTO:-0400
TZNAME:EDT
DTSTART:20260308T070000
END:DAYLIGHT
BEGIN:STANDARD
TZOFFSETFROM:-0400
TZOFFSETTO:-0500
TZNAME:EST
DTSTART:20261101T060000
END:STANDARD
BEGIN:DAYLIGHT
TZOFFSETFROM:-0500
TZOFFSETTO:-0400
TZNAME:EDT
DTSTART:20270314T070000
END:DAYLIGHT
BEGIN:STANDARD
TZOFFSETFROM:-0400
TZOFFSETTO:-0500
TZNAME:EST
DTSTART:20271107T060000
END:STANDARD
END:VTIMEZONE
BEGIN:VEVENT
DTSTART;TZID=America/New_York:20260401T110000
DTEND;TZID=America/New_York:20260401T130000
DTSTAMP:20260421T001247
CREATED:20260316T165746Z
LAST-MODIFIED:20260316T172247Z
UID:7221-1775041200-1775048400@vanwertworks.com
SUMMARY:2026 JobQuest Expo
DESCRIPTION:Join us for the 2026 JobQuest Expo on Wednesday\, April 1 from 11:00 a.m. to 1:00 p.m. at the Van Wert County Fairgrounds – Jr. Fair Building (1055 S. Washington St.\, Van Wert\, OH). \nHosted by Van Wert Works and OhioMeansJobs of Van Wert County\, this free community job fair will feature 40+ employers representing industries such as manufacturing\, healthcare\, finance\, agriculture\, transportation\, construction\, and more. \nAttendees will have the opportunity to:• Meet local employers who are actively hiring• Explore career paths across multiple industries• Apply for jobs on-site• Connect with workforce and education resources \nSeveral employers will also be conducting on-site interviews during the event. \nPrepare for the event with our Guide to Success: https://anyflip.com/uzkhc/mxzl \nSchedule an on-site interview: https://jobquestexpo.simplybook.me/v2/#book \nWhether you are exploring career options\, looking for a new job\, or ready for your next step\, the JobQuest Expo is a great opportunity to connect with employers in our region.
URL:https://vanwertworks.com/event/2026-jobquest-expo/
LOCATION:Van Wert County Fairgrounds – Jr. Fair Building\, 1055 S. Washington St.\, Van Wert\, OH\, 45891\, United States
ATTACH;FMTTYPE=image/png:https://vanwertworks.com/wp-content/uploads/2026/03/JobQuest-Expo-icon-1.png
ORGANIZER;CN="Van Wert Works / Ohio Means Jobs Van Wert County":MAILTO:workforce@vanwerted.com
END:VEVENT
END:VCALENDAR